BEGIN:VCALENDAR
VERSION:2.0
PRODID:-//Triathlon Ontario - ECPv6.2.6//NONSGML v1.0//EN
CALSCALE:GREGORIAN
METHOD:PUBLISH
X-ORIGINAL-URL:https://www.triathlonontario.com
X-WR-CALDESC:Events for Triathlon Ontario
REFRESH-INTERVAL;VALUE=DURATION:PT1H
X-Robots-Tag:noindex
X-PUBLISHED-TTL:PT1H
BEGIN:VTIMEZONE
TZID:America/Toronto
BEGIN:DAYLIGHT
TZOFFSETFROM:-0500
TZOFFSETTO:-0400
TZNAME:EDT
DTSTART:20180311T070000
END:DAYLIGHT
BEGIN:STANDARD
TZOFFSETFROM:-0400
TZOFFSETTO:-0500
TZNAME:EST
DTSTART:20181104T060000
END:STANDARD
END:VTIMEZONE
BEGIN:VEVENT
DTSTART;TZID=America/Toronto:20180512T150000
DTEND;TZID=America/Toronto:20180512T190000
DTSTAMP:20260424T121931
CREATED:20180305T194932Z
LAST-MODIFIED:20180305T195003Z
UID:8644-1526137200-1526151600@www.triathlonontario.com
SUMMARY:GTP Spring Time Trial
DESCRIPTION:Time Trials for swimming and running.
URL:https://www.triathlonontario.com/event/gtp-spring-time-trial
LOCATION:University of Guelph Mitchell Athletic Centre\, 50 Stone Road East\, Guelph\, Ontario\, N1G 2W1\, Canada
CATEGORIES:Clinics
ORGANIZER;CN="Guelph Triathlon Project":MAILTO:coachctaylor@gmail.com 
END:VEVENT
END:VCALENDAR