BEGIN:VCALENDAR
VERSION:2.0
PRODID:-//Triathlon Ontario - ECPv6.2.6//NONSGML v1.0//EN
CALSCALE:GREGORIAN
METHOD:PUBLISH
X-ORIGINAL-URL:https://www.triathlonontario.com
X-WR-CALDESC:Events for Triathlon Ontario
REFRESH-INTERVAL;VALUE=DURATION:PT1H
X-Robots-Tag:noindex
X-PUBLISHED-TTL:PT1H
BEGIN:VTIMEZONE
TZID:America/Toronto
BEGIN:DAYLIGHT
TZOFFSETFROM:-0500
TZOFFSETTO:-0400
TZNAME:EDT
DTSTART:20240310T070000
END:DAYLIGHT
BEGIN:STANDARD
TZOFFSETFROM:-0400
TZOFFSETTO:-0500
TZNAME:EST
DTSTART:20241103T060000
END:STANDARD
END:VTIMEZONE
BEGIN:VEVENT
DTSTART;TZID=America/Toronto:20240426T080000
DTEND;TZID=America/Toronto:20240503T170000
DTSTAMP:20260424T223652
CREATED:20230223T150515Z
LAST-MODIFIED:20240213T184350Z
UID:18829-1714118400-1714755600@www.triathlonontario.com
SUMMARY:TPW Utah Training Camp
DESCRIPTION:Join coaches Kevin McCormick and Tara Postnikoff for a week of training in the iconic setting of St George\, Utah! This is the location of the St George 70.3 and hosted the Ironman World Championships in 2022. The scenery is spectacular with red mountain backdrops and blue skies. The pavement is beautiful and the terrain is challenging. St George Utah is situated at about 800m of elevation in an arid desert. Temperatures in late April average mid 20s during the day\, and low teens at night. \nThe main focus of the camp is cycling yet we will also have coached swims and some runs in the schedule. There will be an opportunity for open water swimming in the Sand Hollow Reservoir. Ride durations are in the 3-4 hour range\, so focused on long course (70.3 or longer) athletes\, or those just looking to gain more early season volume. It’s a great way to get a boost in fitness prior to the Canada outdoor season. We are limiting the camp to 10 athletes so we have a great coach to athlete ratio offering you a personalized approach. Last year we had group dinners where each house prepped a meal for the group. It provided a great chance to debrief on the day and have triathlon related discussions. \n 
URL:https://www.triathlonontario.com/event/tpw-utah-training-camp
LOCATION:Washington City Community Center\, 350 Community Centre Drive\, Washington City\, UT\, 84780\, United States
CATEGORIES:Adult,Camps
ORGANIZER;CN="Tomenson Performance & Wellness":MAILTO:Miranda@tomensonpw.com
END:VEVENT
END:VCALENDAR