BEGIN:VCALENDAR
VERSION:2.0
PRODID:-//Triathlon Ontario - ECPv6.2.6//NONSGML v1.0//EN
CALSCALE:GREGORIAN
METHOD:PUBLISH
X-ORIGINAL-URL:https://www.triathlonontario.com
X-WR-CALDESC:Events for Triathlon Ontario
REFRESH-INTERVAL;VALUE=DURATION:PT1H
X-Robots-Tag:noindex
X-PUBLISHED-TTL:PT1H
BEGIN:VTIMEZONE
TZID:America/Toronto
BEGIN:DAYLIGHT
TZOFFSETFROM:-0500
TZOFFSETTO:-0400
TZNAME:EDT
DTSTART:20240310T070000
END:DAYLIGHT
BEGIN:STANDARD
TZOFFSETFROM:-0400
TZOFFSETTO:-0500
TZNAME:EST
DTSTART:20241103T060000
END:STANDARD
END:VTIMEZONE
BEGIN:VEVENT
DTSTART;TZID=America/Toronto:20240317T083000
DTEND;TZID=America/Toronto:20240317T120000
DTSTAMP:20260424T074959
CREATED:20230206T193350Z
LAST-MODIFIED:20240130T171033Z
UID:18659-1710664200-1710676800@www.triathlonontario.com
SUMMARY:TPW - March Swim Clinic for Youth and Adults
DESCRIPTION:Sunday March 10\, 17\, 31 from 8am-9:30am (swim) & ~ 10am (run)\nEtobicoke Olympium (590 Rathburn Rd\, Etobicoke\, M9C 3T3) \nGet ready for your races with group swim sessions! We will be running a concurrent youth and adult swim session on March 17 and 31 (Adult only on March 10) \nEach swim session includes:\n20-30min for drills and skills (including OW skills like sighting and drafting)\n45-60 minute main set catered to your own ability\nAdults: Optional underwater swim filming (+$10+HST) and follow up analysis (+$40+HST). \nAbility: Adults should be able to swim 400m continuously\, all levels welcome for youth program (13-18 yrs old or enquire ahead of time if outside that age range. \nAdults: Self supported run to follow at your own pace\nRoute will be provided (indoor track available on site)
URL:https://www.triathlonontario.com/event/tpw-spring-swim-clinic-tomenson-performance-wellness-2
LOCATION:Etobicoke Olympian\, 590 Rathburn Road\, Etobicoke\, Ontario\, M9C 3T3\, Canada
CATEGORIES:Adult,Clinics
ORGANIZER;CN="Tomenson Performance & Wellness":MAILTO:Miranda@tomensonpw.com
END:VEVENT
END:VCALENDAR