BEGIN:VCALENDAR
VERSION:2.0
PRODID:-//Triathlon Ontario - ECPv6.2.6//NONSGML v1.0//EN
CALSCALE:GREGORIAN
METHOD:PUBLISH
X-WR-CALNAME:Triathlon Ontario
X-ORIGINAL-URL:https://www.triathlonontario.com
X-WR-CALDESC:Events for Triathlon Ontario
REFRESH-INTERVAL;VALUE=DURATION:PT1H
X-Robots-Tag:noindex
X-PUBLISHED-TTL:PT1H
BEGIN:VTIMEZONE
TZID:America/Toronto
BEGIN:DAYLIGHT
TZOFFSETFROM:-0500
TZOFFSETTO:-0400
TZNAME:EDT
DTSTART:20260308T070000
END:DAYLIGHT
BEGIN:STANDARD
TZOFFSETFROM:-0400
TZOFFSETTO:-0500
TZNAME:EST
DTSTART:20261101T060000
END:STANDARD
END:VTIMEZONE
BEGIN:VEVENT
DTSTART;TZID=America/Toronto:20260614T090000
DTEND;TZID=America/Toronto:20260614T140000
DTSTAMP:20260423T120842
CREATED:20260420T170154Z
LAST-MODIFIED:20260420T170154Z
UID:23986-1781427600-1781445600@www.triathlonontario.com
SUMMARY:LPC - Guelph Triathlon Clinic
DESCRIPTION:The Guelph Triathlon Clinic is ideal for triathletes of all abilities who would like to practice triathlon-specific skills and race dynamics in a group setting over the Guelph Triathlon course.
URL:https://www.triathlonontario.com/event/lpc-guelph-triathlon-clinic-4
LOCATION:Guelph Lake Conservation\, 7743 Conservation Dr.\, RR 4\, Guelph\, Ontario\, N1H 6J1\, Canada
CATEGORIES:Adult,Clinics,Youth
ATTACH;FMTTYPE=image/png:https://www.triathlonontario.com/wp-content/uploads/LPC-Triathlon-Club-e1712162281935.png
ORGANIZER;CN="LPC Triathlon Club":MAILTO:james@loaring.com 
END:VEVENT
END:VCALENDAR