BEGIN:VCALENDAR
VERSION:2.0
PRODID:-//Triathlon Ontario - ECPv6.2.6//NONSGML v1.0//EN
CALSCALE:GREGORIAN
METHOD:PUBLISH
X-ORIGINAL-URL:https://www.triathlonontario.com
X-WR-CALDESC:Events for Triathlon Ontario
REFRESH-INTERVAL;VALUE=DURATION:PT1H
X-Robots-Tag:noindex
X-PUBLISHED-TTL:PT1H
BEGIN:VTIMEZONE
TZID:America/Toronto
BEGIN:DAYLIGHT
TZOFFSETFROM:-0500
TZOFFSETTO:-0400
TZNAME:EDT
DTSTART:20220313T070000
END:DAYLIGHT
BEGIN:STANDARD
TZOFFSETFROM:-0400
TZOFFSETTO:-0500
TZNAME:EST
DTSTART:20221106T060000
END:STANDARD
END:VTIMEZONE
BEGIN:VEVENT
DTSTART;TZID=America/Toronto:20220421T190000
DTEND;TZID=America/Toronto:20220421T210000
DTSTAMP:20260424T123710
CREATED:20210106T152928Z
LAST-MODIFIED:20220406T150004Z
UID:16433-1650567600-1650574800@www.triathlonontario.com
SUMMARY:NCCP Community Triathlon Coach Part 1 (Online)
DESCRIPTION:Triathlon Ontario is hosting an NCCP Community Triathlon Coach Part 1 course online utilizing the Zoom platform. \nDates & Times: This course is offered four sessions of two hours each over four weeks. All sessions are required in order to complete Part 1. \nThursday\, April 21\, 2022: 7:00pm – 9:00pm;\nThursday\, April 28\, 2022: 7:00pm – 9:00pm;\nThursday\, May 5\, 2022: 7:00pm – 9:00pm;\nThursday\, May 12\, 2022: 7:00pm – 9:00pm. \nThis course is newly available in an online format\, and comprises Part 1 of NCCP Community Triathlon Coach\, including the module Coaching Beginner and Age Group Triathletes. \nCoaches will cover safety\, coaching philosophy\, planning workouts\, and designing programs for triathletes. Part 1 prepares coaches to complete activity plans and Emergency Action plans in swim\, bike\, run and transition\, which will be used in Part 2. \nThis Part 1 session is completely online; no sport equipment is required. \nAs an online course\, this session is particularly suited for coaches who are located in remote areas or who would have to travel extensively to attend a course in the 401/400 corridor. \n  \n \n  \n  \n  \n \nNCCP Community Triathlon Coach is the starting point for triathlon coaches\, and completion of Parts 1 and 2 is the primary requirement to run a club\, workout\, clinic\, or camp sanctioned by Triathlon Ontario. \nThe triathlon coaching pathway has recently been updated\, so this is an all-new course featuring new material and an updated practical component. \nThe full course consists of Part 1 and Part 2. Coaches will need to complete both parts in order to be qualified. Part 2 includes the modules Coaching and Assessing Triathlon Skills and Coaching to Events and is delivered a one-day\, in-person course. During Part 2\, coaches will lead the mini-activities they planned in Part 1. \nThough open to all Triathlon Ontario members\, this course is one of those in the new Triathlon Community Coaching Pathway. As such\, it’s particularly suited for those coaches looking to coach beginner\, recreational\, and age-group athletes\, and those coaches working toward NCCP Community certification. \nThe outcomes of the NCCP Community Triathlon Coach program are: \n\nMake Ethical Decisions\nProvide Support to Athletes in Training\nPlan a Practice\nAnalyze Performance\nSupport the Competitive Experience\nDesign a Sport Program\n\n  \nNCCP Community Triathlon Coach Part 1 Details\nFormat: Online\, Zoom. Coaches must have the capability to participate meaningfully via the Zoom platform\, including a sufficiently-robust internet connection to support video and a reasonably distraction-free environment. A Zoom link will be provided by email prior to the course; coaches are required to perform any installation\, troubleshooting\, and familiarization with the Zoom platform prior to the course start date. Breakout rooms will be used and coaches are expected to participate in group activities and complete tasks. \nMembership: 2022 Triathlon Ontario Membership is required to register for this course. \nPrerequisites: Coaches should complete the following before the course begins: \n\nEnsure you have and can access a The Locker Account at coach.ca;\nComplete the free eLearning activity NCCP Emergency Action Plan on The Locker.\n\nFacilitator: Gabbi Whitlock \nCourse Length: 8 hrs. (Part 1) \nCost: $125.00 \n  \n \n 
URL:https://www.triathlonontario.com/event/nccp-community-triathlon-coach-part-1
LOCATION:Online
CATEGORIES:Courses,NCCP
ATTACH;FMTTYPE=image/png:https://www.triathlonontario.com/wp-content/uploads/Triathlon-Ontario-Leaf-Wave-Only-Padded.png
END:VEVENT
END:VCALENDAR