BEGIN:VCALENDAR
VERSION:2.0
PRODID:-//Triathlon Ontario - ECPv6.2.6//NONSGML v1.0//EN
CALSCALE:GREGORIAN
METHOD:PUBLISH
X-ORIGINAL-URL:https://www.triathlonontario.com
X-WR-CALDESC:Events for Triathlon Ontario
REFRESH-INTERVAL;VALUE=DURATION:PT1H
X-Robots-Tag:noindex
X-PUBLISHED-TTL:PT1H
BEGIN:VTIMEZONE
TZID:America/Toronto
BEGIN:DAYLIGHT
TZOFFSETFROM:-0500
TZOFFSETTO:-0400
TZNAME:EDT
DTSTART:20190310T070000
END:DAYLIGHT
BEGIN:STANDARD
TZOFFSETFROM:-0400
TZOFFSETTO:-0500
TZNAME:EST
DTSTART:20191103T060000
END:STANDARD
END:VTIMEZONE
BEGIN:VEVENT
DTSTART;TZID=America/Toronto:20190623T070000
DTEND;TZID=America/Toronto:20190623T123000
DTSTAMP:20260423T211713
CREATED:20190327T141858Z
LAST-MODIFIED:20190327T142445Z
UID:13019-1561273200-1561293000@www.triathlonontario.com
SUMMARY:ACES Kids Triathlon
DESCRIPTION:Popular early season youth triathlon based in Baden\, event categories for young athletes aged 3-15
URL:https://www.triathlonontario.com/event/aces-kids-triathlon
LOCATION:Wilmot Recreation Complex\, 1291 Nafziger Road\, Baden\, Ontario\, N3A0C4\, Canada
CATEGORIES:Races,Youth
ATTACH;FMTTYPE=image/jpeg:https://www.triathlonontario.com/wp-content/uploads/2017/05/thumb-wilmot.jpg
ORGANIZER;CN="Wilmot Aquatic Aces":MAILTO:ajewanchuk@gmail.com
END:VEVENT
END:VCALENDAR