BEGIN:VCALENDAR
VERSION:2.0
PRODID:-//Triathlon Ontario - ECPv6.2.6//NONSGML v1.0//EN
CALSCALE:GREGORIAN
METHOD:PUBLISH
X-ORIGINAL-URL:https://www.triathlonontario.com
X-WR-CALDESC:Events for Triathlon Ontario
REFRESH-INTERVAL;VALUE=DURATION:PT1H
X-Robots-Tag:noindex
X-PUBLISHED-TTL:PT1H
BEGIN:VTIMEZONE
TZID:America/Toronto
BEGIN:DAYLIGHT
TZOFFSETFROM:-0500
TZOFFSETTO:-0400
TZNAME:EDT
DTSTART:20200308T070000
END:DAYLIGHT
BEGIN:STANDARD
TZOFFSETFROM:-0400
TZOFFSETTO:-0500
TZNAME:EST
DTSTART:20201101T060000
END:STANDARD
END:VTIMEZONE
BEGIN:VEVENT
DTSTART;TZID=America/Toronto:20200202T080000
DTEND;TZID=America/Toronto:20200202T170000
DTSTAMP:20260420T110936
CREATED:20200115T194520Z
LAST-MODIFIED:20200115T194520Z
UID:14794-1580630400-1580662800@www.triathlonontario.com
SUMMARY:Discomfort Zone - DZ Winter Triathlon Clinics
DESCRIPTION:DZ Winter Triathlon Clinic is designed to provide athletes with consistent base training\, technique improvement\, and skills development during the off season. With indoor training venues and expert coaching\, athletes approach the next race season with a more efficient swim\, stronger bike\, and faster run than the previous year – you simply supply the hard work. \nEvery Sunday 9:00 am\,  January 19 – March 22\, 2020
URL:https://www.triathlonontario.com/event/discomfort-zone-dz-winter-triathlon-clinics-2
LOCATION:University of Guelph Mitchell Athletic Centre\, 50 Stone Road East\, Guelph\, Ontario\, N1G 2W1\, Canada
CATEGORIES:Adult,Clinics
ATTACH;FMTTYPE=image/jpeg:https://www.triathlonontario.com/wp-content/uploads/2017/05/logo-discomfort-zone.jpg
ORGANIZER;CN="Discomfort Zone Performance Coaching":MAILTO:dzmike@gmail.com
END:VEVENT
BEGIN:VEVENT
DTSTART;TZID=America/Toronto:20200205T210000
DTEND;TZID=America/Toronto:20200205T223000
DTSTAMP:20260420T110936
CREATED:20200121T160526Z
LAST-MODIFIED:20200121T160526Z
UID:14851-1580936400-1580941800@www.triathlonontario.com
SUMMARY:Team Atomica - Winter Swim Clinic
DESCRIPTION:6 WEEK SWIM CLINIC\nJoin Team Atomica for one of the most effective swim clinics Toronto has to offer. This 6 week\, in-depth swim analysis and correction clinic is run by Darian Silk.\nEach week Darian teaches new technical skills\, videotape your swimming and provide feedback. This unique long-form clinical format allows you to learn and practice\, but most importantly get real-time visual and verbal corrections. This session is for swimmers and triathletes of all levels who want to focus on improving their swim technique\, efficiency and ultimately\, speed. \nWednesday\, Jan 15th\, 22nd\, 29th\, February 5th\, 12th\, 19th
URL:https://www.triathlonontario.com/event/team-atomica-winter-swim-clinic-4
LOCATION:Branksome Hall\, 10 Elm Avenue\, Toronto\, Ontario\, M4W 1N4\, Canada
CATEGORIES:Adult,Clinics
ATTACH;FMTTYPE=image/jpeg:https://www.triathlonontario.com/wp-content/uploads/2017/05/logo-team-atomica.jpg
ORGANIZER;CN="Team Atomica":MAILTO:admin@teamatomica.com
END:VEVENT
BEGIN:VEVENT
DTSTART;TZID=America/Toronto:20200207T080000
DTEND;TZID=America/Toronto:20200215T170000
DTSTAMP:20260420T110936
CREATED:20191217T183845Z
LAST-MODIFIED:20200115T210405Z
UID:14581-1581062400-1581786000@www.triathlonontario.com
SUMMARY:Tri4LIfe Cozumel Training Camp
DESCRIPTION:Participate in a late-winter training camp at one of the most popular Caribbean destinations\, the home\nof Ironman Cozumel. Participate in structured swimming\, cycling and running workouts\, with the option\nof taking part in group workshops and activities\, including nutritional assessments\, dining\, diving\, and\nmassage.
URL:https://www.triathlonontario.com/event/tri4life-cozumel-training-camp
LOCATION:El Cozumeleño Beach Resort\, Playa Santa Pilar\, KM 4.5\, Zona Hotelera Nte\, 77600 San Miguel de Cozumel\, Mexico
CATEGORIES:Adult,Camps
ORGANIZER;CN="Tri4Life":MAILTO:lucien.peron@imcoach.ca
END:VEVENT
BEGIN:VEVENT
DTSTART;TZID=America/Toronto:20200209T080000
DTEND;TZID=America/Toronto:20200209T120000
DTSTAMP:20260420T110936
CREATED:20180404T182238Z
LAST-MODIFIED:20200107T150309Z
UID:10090-1581235200-1581249600@www.triathlonontario.com
SUMMARY:The TriMuskoka Indoor Triathlon Winter Classic - Race 1
DESCRIPTION:As a way of inspiring and engaging our local community in physical activity\, and a sport that is so central to our region\, TriMuskoka will be hosting the 2nd Winter Indoor Triathlon Classic that promises to be as much fun as it will be challenging for individuals of all abilities. \nThe three legs of the Winter Classic are short enough that people will be able to complete the race and be just long enough that participants will be proud of their accomplishments.  Think of this event as that much needed mid-winter carrot to keep yourself active over the course of the winter\, so that when spring rolls around\, you are rip roaring ready to go for what activities lie ahead of you. \nSimilar to our TriMuskokan Short Course Triathlon and Try-a-Tri\, the focus is on creating a fun and memorable event experience that provides participants with a challenge\, and will leave them with a tremendous sense of accomplishment when they are done.?
URL:https://www.triathlonontario.com/event/the-trimuskoka-indoor-triathlon-winter-classic
LOCATION:Canada Summit Centre\, 20 Park Drive\, Huntsville\, Ontario\, P1H 1P5\, Canada
CATEGORIES:Indoor Triathlon
ORGANIZER;CN="TriMuskoka Triathlon Club":MAILTO:khabermehl@live.com
END:VEVENT
BEGIN:VEVENT
DTSTART;TZID=America/Toronto:20200209T080000
DTEND;TZID=America/Toronto:20200209T170000
DTSTAMP:20260420T110936
CREATED:20200115T194704Z
LAST-MODIFIED:20200115T194704Z
UID:14797-1581235200-1581267600@www.triathlonontario.com
SUMMARY:Discomfort Zone - DZ Winter Triathlon Clinics
DESCRIPTION:DZ Winter Triathlon Clinic is designed to provide athletes with consistent base training\, technique improvement\, and skills development during the off season. With indoor training venues and expert coaching\, athletes approach the next race season with a more efficient swim\, stronger bike\, and faster run than the previous year – you simply supply the hard work. \nEvery Sunday 9:00 am\,  January 19 – March 22\, 2020
URL:https://www.triathlonontario.com/event/discomfort-zone-dz-winter-triathlon-clinics-3
LOCATION:University of Guelph Mitchell Athletic Centre\, 50 Stone Road East\, Guelph\, Ontario\, N1G 2W1\, Canada
CATEGORIES:Adult,Clinics
ATTACH;FMTTYPE=image/jpeg:https://www.triathlonontario.com/wp-content/uploads/2017/05/logo-discomfort-zone.jpg
ORGANIZER;CN="Discomfort Zone Performance Coaching":MAILTO:dzmike@gmail.com
END:VEVENT
BEGIN:VEVENT
DTSTART;TZID=America/Toronto:20200209T090000
DTEND;TZID=America/Toronto:20200209T110000
DTSTAMP:20260420T110936
CREATED:20200130T180658Z
LAST-MODIFIED:20200130T180658Z
UID:14926-1581238800-1581246000@www.triathlonontario.com
SUMMARY:CL Performance Training - Foam Rolling Clinic
DESCRIPTION:sophiCoach Sophie recently completed her RMT (Registered Massage Therapist) designation\, and is sharing her expertise in muscles\, tissue\, fascia…and how to keep them all happy in this clinic. Performance depends on strength and mobility…and that depends on healthy body parts. Don’t miss your opportunity to learn what to do\, how to do it right – and establish a routine that will keep your body healthy.
URL:https://www.triathlonontario.com/event/cl-performance-training-foam-rolling-clinic
LOCATION:Any Time Fitness – Burlington\, 2025 Guelph Line\, Burlington\, Ontario\, L7P 4M8\, Canada
CATEGORIES:Adult,Clinics
ATTACH;FMTTYPE=image/jpeg:https://www.triathlonontario.com/wp-content/uploads/CLPT-logo.jpg
ORGANIZER;CN="Cindy Lewis Performance Training":MAILTO:clperformancetraining@gmail.com
END:VEVENT
BEGIN:VEVENT
DTSTART;TZID=America/Toronto:20200212T210000
DTEND;TZID=America/Toronto:20200212T223000
DTSTAMP:20260420T110936
CREATED:20200121T161214Z
LAST-MODIFIED:20200121T161214Z
UID:14854-1581541200-1581546600@www.triathlonontario.com
SUMMARY:Team Atomica - Winter Swim Clinic
DESCRIPTION:6 WEEK SWIM CLINIC\nJoin Team Atomica for one of the most effective swim clinics Toronto has to offer. This 6 week\, in-depth swim analysis and correction clinic is run by Darian Silk.\nEach week Darian teaches new technical skills\, videotape your swimming and provide feedback. This unique long-form clinical format allows you to learn and practice\, but most importantly get real-time visual and verbal corrections. This session is for swimmers and triathletes of all levels who want to focus on improving their swim technique\, efficiency and ultimately\, speed. \nWednesday\, Jan 15th\, 22nd\, 29th\, February 5th\, 12th\, 19th
URL:https://www.triathlonontario.com/event/team-atomica-winter-swim-clinic-5
LOCATION:Branksome Hall\, 10 Elm Avenue\, Toronto\, Ontario\, M4W 1N4\, Canada
CATEGORIES:Adult,Clinics
ATTACH;FMTTYPE=image/jpeg:https://www.triathlonontario.com/wp-content/uploads/2017/05/logo-team-atomica.jpg
ORGANIZER;CN="Team Atomica":MAILTO:admin@teamatomica.com
END:VEVENT
BEGIN:VEVENT
DTSTART;TZID=America/Toronto:20200216T080000
DTEND;TZID=America/Toronto:20200216T170000
DTSTAMP:20260420T110936
CREATED:20200115T194827Z
LAST-MODIFIED:20200115T194827Z
UID:14800-1581840000-1581872400@www.triathlonontario.com
SUMMARY:Discomfort Zone - DZ Winter Triathlon Clinics
DESCRIPTION:DZ Winter Triathlon Clinic is designed to provide athletes with consistent base training\, technique improvement\, and skills development during the off season. With indoor training venues and expert coaching\, athletes approach the next race season with a more efficient swim\, stronger bike\, and faster run than the previous year – you simply supply the hard work. \nEvery Sunday 9:00 am\,  January 19 – March 22\, 2020
URL:https://www.triathlonontario.com/event/discomfort-zone-dz-winter-triathlon-clinics-4
LOCATION:University of Guelph Mitchell Athletic Centre\, 50 Stone Road East\, Guelph\, Ontario\, N1G 2W1\, Canada
CATEGORIES:Adult,Clinics
ATTACH;FMTTYPE=image/jpeg:https://www.triathlonontario.com/wp-content/uploads/2017/05/logo-discomfort-zone.jpg
ORGANIZER;CN="Discomfort Zone Performance Coaching":MAILTO:dzmike@gmail.com
END:VEVENT
BEGIN:VEVENT
DTSTART;TZID=America/Toronto:20200219T210000
DTEND;TZID=America/Toronto:20200219T223000
DTSTAMP:20260420T110936
CREATED:20200121T161450Z
LAST-MODIFIED:20200121T161450Z
UID:14857-1582146000-1582151400@www.triathlonontario.com
SUMMARY:Team Atomica - Winter Swim Clinic
DESCRIPTION:6 WEEK SWIM CLINIC\nJoin Team Atomica for one of the most effective swim clinics Toronto has to offer. This 6 week\, in-depth swim analysis and correction clinic is run by Darian Silk.\nEach week Darian teaches new technical skills\, videotape your swimming and provide feedback. This unique long-form clinical format allows you to learn and practice\, but most importantly get real-time visual and verbal corrections. This session is for swimmers and triathletes of all levels who want to focus on improving their swim technique\, efficiency and ultimately\, speed. \nWednesday\, Jan 15th\, 22nd\, 29th\, February 5th\, 12th\, 19th
URL:https://www.triathlonontario.com/event/team-atomica-winter-swim-clinic-6
LOCATION:Branksome Hall\, 10 Elm Avenue\, Toronto\, Ontario\, M4W 1N4\, Canada
CATEGORIES:Adult,Clinics
ATTACH;FMTTYPE=image/jpeg:https://www.triathlonontario.com/wp-content/uploads/2017/05/logo-team-atomica.jpg
ORGANIZER;CN="Team Atomica":MAILTO:admin@teamatomica.com
END:VEVENT
BEGIN:VEVENT
DTSTART;TZID=America/Toronto:20200223T080000
DTEND;TZID=America/Toronto:20200223T170000
DTSTAMP:20260420T110936
CREATED:20200115T194959Z
LAST-MODIFIED:20200115T194959Z
UID:14803-1582444800-1582477200@www.triathlonontario.com
SUMMARY:Discomfort Zone - DZ Winter Triathlon Clinics
DESCRIPTION:DZ Winter Triathlon Clinic is designed to provide athletes with consistent base training\, technique improvement\, and skills development during the off season. With indoor training venues and expert coaching\, athletes approach the next race season with a more efficient swim\, stronger bike\, and faster run than the previous year – you simply supply the hard work. \nEvery Sunday 9:00 am\,  January 19 – March 22\, 2020
URL:https://www.triathlonontario.com/event/discomfort-zone-dz-winter-triathlon-clinics-5
LOCATION:University of Guelph Mitchell Athletic Centre\, 50 Stone Road East\, Guelph\, Ontario\, N1G 2W1\, Canada
CATEGORIES:Adult,Clinics
ATTACH;FMTTYPE=image/jpeg:https://www.triathlonontario.com/wp-content/uploads/2017/05/logo-discomfort-zone.jpg
ORGANIZER;CN="Discomfort Zone Performance Coaching":MAILTO:dzmike@gmail.com
END:VEVENT
BEGIN:VEVENT
DTSTART;TZID=America/Toronto:20200229T080000
DTEND;TZID=America/Toronto:20200306T170000
DTSTAMP:20260420T110936
CREATED:20200210T155318Z
LAST-MODIFIED:20200210T155318Z
UID:14989-1582963200-1583514000@www.triathlonontario.com
SUMMARY:Team Atomica - Camp Kona Hawaii
DESCRIPTION:Cycling and triathlon training camp with Ultraman World Champion Team Atomica Coach Tara Norton.
URL:https://www.triathlonontario.com/event/team-atomica-camp-kona-hawaii
LOCATION:Sea Village\, 6000 Alii Drive United States\, Kailua-Kona\, HI\, 96740\, United States
CATEGORIES:Adult,Camps
ATTACH;FMTTYPE=image/jpeg:https://www.triathlonontario.com/wp-content/uploads/2017/05/logo-team-atomica.jpg
ORGANIZER;CN="Team Atomica":MAILTO:admin@teamatomica.com
END:VEVENT
END:VCALENDAR