BEGIN:VCALENDAR
VERSION:2.0
PRODID:-//Triathlon Ontario - ECPv6.2.6//NONSGML v1.0//EN
CALSCALE:GREGORIAN
METHOD:PUBLISH
X-ORIGINAL-URL:https://www.triathlonontario.com
X-WR-CALDESC:Events for Triathlon Ontario
REFRESH-INTERVAL;VALUE=DURATION:PT1H
X-Robots-Tag:noindex
X-PUBLISHED-TTL:PT1H
BEGIN:VTIMEZONE
TZID:America/Toronto
BEGIN:DAYLIGHT
TZOFFSETFROM:-0500
TZOFFSETTO:-0400
TZNAME:EDT
DTSTART:20240310T070000
END:DAYLIGHT
BEGIN:STANDARD
TZOFFSETFROM:-0400
TZOFFSETTO:-0500
TZNAME:EST
DTSTART:20241103T060000
END:STANDARD
BEGIN:DAYLIGHT
TZOFFSETFROM:-0500
TZOFFSETTO:-0400
TZNAME:EDT
DTSTART:20250309T070000
END:DAYLIGHT
BEGIN:STANDARD
TZOFFSETFROM:-0400
TZOFFSETTO:-0500
TZNAME:EST
DTSTART:20251102T060000
END:STANDARD
END:VTIMEZONE
BEGIN:VEVENT
DTSTART;TZID=America/Toronto:20241219T180000
DTEND;TZID=America/Toronto:20241219T190000
DTSTAMP:20260423T135113
CREATED:20241212T160839Z
LAST-MODIFIED:20241212T161912Z
UID:21678-1734631200-1734634800@www.triathlonontario.com
SUMMARY:Provincial Development Program Seminar Series
DESCRIPTION:Provincial Development Program Seminar Series 24/25\n\nNovember 21 2024 – April 30 2025\n\n\nAs part of Triathlon Ontario’s Provincial Development Program a series of free online seminars is being offered to all of the province’s developmental athletes and coaches.  \nParticipants only need to register once and then Triathlon Ontario will create an email database of interested athletes and coaches\, sending the information for each seminar. \nSeminar Schedule: \nNovember 21st – Nutrition Seminar “Fueling Your Performance”\nDecember 19th – Exercise Physiology Seminar “Training Intensities and Adaptation\nJanuary 23rd –  Nutrition Seminar “Energy Availability: Assessing Needs and Intake in Performance Athletes”\nFebruary 20th – Exercise Physiology Seminar “Strength Training for Triathletes”\nMarch 20th – Nutrition Seminar “The Importance of Protein\, Hydration and Recovery Nutrition for Endurance Athletes\, and Intra Workout/Race Day Tips”\nApril 10th – Online Exercise Physiology Seminar  – TBD\nThe seminars will be feature experts in their respective fields. \n\n\nREGISTER
URL:https://www.triathlonontario.com/event/provincial-development-program-seminar-series-7
LOCATION:Online
CATEGORIES:Clinics,Youth
END:VEVENT
BEGIN:VEVENT
DTSTART;TZID=America/Toronto:20241223T083000
DTEND;TZID=America/Toronto:20250104T170000
DTSTAMP:20260423T135113
CREATED:20241203T155639Z
LAST-MODIFIED:20241203T161853Z
UID:21653-1734942600-1736010000@www.triathlonontario.com
SUMMARY:Team Atomica - Toronto Swim Training Clinic
DESCRIPTION:Train in 50m pools with expertly led and professionally designed 2 hour workouts\, all combined with some holiday cheer. \nEach workout will have at least 2 of Team Atomica’s expert coaches and will be designed to boost your Fitness and Endurance. Ayesha Rollinson\, Darian Silk\, Kelvin Landolt\, Lucien Peron and Katie Allen are looking forward to guiding swimmers through each specialized workout\, and up to 20 hours of swimming in 10 days. The workouts will cover all the swimming elements\, from Endurance sets to Sprinting\, Kicking\, Diving\, Walls and of course\, the TOP TIER INSTRUCTION on Technique that Team Atomica coaches are famous for! \nREQUIRED: Participants must be able to swim 400m continuously in under 12 minutes and at least 2000m in 1 workout. Club swimmers 12 yrs+ are welcome to attend if they meet the criteria.
URL:https://www.triathlonontario.com/event/team-atomica-toronto-swim-training-camp
LOCATION:University of Toronto Varsity Pool\, 55 Harbord Street\, TORONTO\, ON\, M5S 2W6\, Canada
CATEGORIES:Adult,Camps,Youth
ORGANIZER;CN="Team Atomica":MAILTO:admin@teamatomica.com
END:VEVENT
BEGIN:VEVENT
DTSTART;TZID=America/Toronto:20241223T100000
DTEND;TZID=America/Toronto:20241223T133000
DTSTAMP:20260423T135113
CREATED:20241022T162247Z
LAST-MODIFIED:20241022T162330Z
UID:21558-1734948000-1734960600@www.triathlonontario.com
SUMMARY:TPW - Youth Triathlon Skill Development Day
DESCRIPTION:Tomenson Performance & Wellness \nThis program is geared toward youth under 16 years old to encourage participation in activity and an introduction to the sport of triathlon. \n10-11:30am – Swim Session\n11:30-12pm – Lunch and Learn\n12-1:30pm – Bike / Run Session; including transition sets and core\nU16\, but call if not U16 and are interested in the training.
URL:https://www.triathlonontario.com/event/tpw-youth-triathlon-skill-development-day
LOCATION:Etobicoke Olympium\, 590 Rathburn Road\, Etobicoke\, Ontario\, M9C 3T3\, Canada
CATEGORIES:Clinics,Youth
ORGANIZER;CN="Tomenson Performance & Wellness":MAILTO:Miranda@tomensonpw.com
END:VEVENT
BEGIN:VEVENT
DTSTART;TZID=America/Toronto:20241227T080000
DTEND;TZID=America/Toronto:20241229T170000
DTSTAMP:20260423T135113
CREATED:20241121T171517Z
LAST-MODIFIED:20241121T171633Z
UID:21643-1735286400-1735491600@www.triathlonontario.com
SUMMARY:Provincial Development Program Swim Camp
DESCRIPTION:Triathlon Ontario’s Provincial Development Program is offering a three day swim camp in Ottawa December 27th-20th. The camp is open to development pathway athletes aged 12-25.  \nSchedule: \n\nDec. 27th – 2pm – 4pm – Technical swim session – developing an early catch and increasing the propulsion phase of the stroke through shoulder stability and mobility drills.\nDec. 28th – 8am – 9:30am – Speed session – Speed control and efficient sprinting. This session will focus on swimming fast and efficient through a series processes to improve breathing\, balance and rotation\, extending the propulsion phase of the stroke proper hand position at the backend of the stroke.\n\nDec. 28th  – 4pm – 5:30pm – 200m and 400m Time Trials.  These will be valid for TriCan’s ratified times process and will provide athletes with a foundation to set training objectives for the next few months.\n\nDec. 29th – 7am – 8:30am – Camp Swim Meet – athletes will be broken into teams to compete for the overall team championship of the camp. Swim meet will include individual\, duo and team events.\n\nREGISTER
URL:https://www.triathlonontario.com/event/provincial-development-program-swim-camp
LOCATION:Carleton University\, 1125 Colonel By Drive\, Ottawa\, Ontario\, K1S 5B6\, Canada
CATEGORIES:Camps,Youth
END:VEVENT
BEGIN:VEVENT
DTSTART;TZID=America/Toronto:20241230T100000
DTEND;TZID=America/Toronto:20241230T133000
DTSTAMP:20260423T135113
CREATED:20241022T162513Z
LAST-MODIFIED:20241022T163031Z
UID:21564-1735552800-1735565400@www.triathlonontario.com
SUMMARY:TPW - Youth Skills Development Day
DESCRIPTION:Tomenson Performance & Wellness \nThis program is geared toward youth under 16 years old to encourage participation in activity and an introduction to the sport of triathlon. \n10-11:30am – Swim Session\n11:30-12pm – Lunch and Learn\n12-1:30pm – Bike / Run Session; including transition sets and core\nU16\, but call if not U16 and are interested in the training.
URL:https://www.triathlonontario.com/event/21564
LOCATION:Etobicoke Olympian\, 590 Rathburn Road\, Etobicoke\, Ontario\, M9C 3T3\, Canada
CATEGORIES:Clinics,Youth
ORGANIZER;CN="Tomenson Performance & Wellness":MAILTO:Miranda@tomensonpw.com
END:VEVENT
END:VCALENDAR